BEGIN:VCALENDAR
VERSION:2.0
PRODID:icalendar-ruby
CALSCALE:GREGORIAN
METHOD:PUBLISH
BEGIN:VEVENT
DTSTAMP:20260421T150910Z
UID:9-224709@lakewinolaumc.org
DTSTART:20260927T130000Z
DTEND:20260927T140000Z
CLASS:PUBLIC
CREATED:20260421T110017
DESCRIPTION:
LAST-MODIFIED:20260421T110017
LOCATION:
SUMMARY:Sunday Worship
URL;VALUE=URI:https://lakewinolaumc.org/events/sunday-worship/2026-09-27
END:VEVENT
END:VCALENDAR
