BEGIN:VCALENDAR
VERSION:2.0
PRODID:icalendar-ruby
CALSCALE:GREGORIAN
METHOD:PUBLISH
BEGIN:VEVENT
DTSTAMP:20260421T183205Z
UID:9-224780@lakewinolaumc.org
DTSTART:20261011T130000Z
DTEND:20261011T140000Z
CLASS:PUBLIC
CREATED:20260421T134036
DESCRIPTION:
LAST-MODIFIED:20260421T134036
LOCATION:
SUMMARY:Sunday Worship
URL;VALUE=URI:https://lakewinolaumc.org/events/sunday-worship/2026-10-11
END:VEVENT
END:VCALENDAR
