BEGIN:VCALENDAR
VERSION:2.0
PRODID:icalendar-ruby
CALSCALE:GREGORIAN
METHOD:PUBLISH
BEGIN:VEVENT
DTSTAMP:20260421T201445Z
UID:9-224781@lakewinolaumc.org
DTSTART:20261018T130000Z
DTEND:20261018T140000Z
CLASS:PUBLIC
CREATED:20260421T134036
DESCRIPTION:
LAST-MODIFIED:20260421T134036
LOCATION:
SUMMARY:Sunday Worship
URL;VALUE=URI:https://lakewinolaumc.org/events/sunday-worship/2026-10-18
END:VEVENT
END:VCALENDAR
