BEGIN:VCALENDAR
VERSION:2.0
PRODID:icalendar-ruby
CALSCALE:GREGORIAN
METHOD:PUBLISH
BEGIN:VEVENT
DTSTAMP:20260421T215244Z
UID:9-224851@lakewinolaumc.org
DTSTART:20261025T130000Z
DTEND:20261025T140000Z
CLASS:PUBLIC
CREATED:20260421T161620
DESCRIPTION:
LAST-MODIFIED:20260421T161620
LOCATION:
SUMMARY:Sunday Worship
URL;VALUE=URI:https://lakewinolaumc.org/events/sunday-worship/2026-10-25
END:VEVENT
END:VCALENDAR
