BEGIN:VCALENDAR
VERSION:2.0
PRODID:icalendar-ruby
CALSCALE:GREGORIAN
METHOD:PUBLISH
BEGIN:VEVENT
DTSTAMP:20260421T234053Z
UID:9-224921@lakewinolaumc.org
DTSTART:20261101T140000Z
DTEND:20261101T150000Z
CLASS:PUBLIC
CREATED:20260421T185456
DESCRIPTION:
LAST-MODIFIED:20260421T185456
LOCATION:
SUMMARY:Sunday Worship
URL;VALUE=URI:https://lakewinolaumc.org/events/sunday-worship/2026-11-01
END:VEVENT
END:VCALENDAR
